BEGIN:VCALENDAR
VERSION:2.0
PRODID:-//FVBD - ECPv5.7.0//NONSGML v1.0//EN
CALSCALE:GREGORIAN
METHOD:PUBLISH
X-WR-CALNAME:FVBD
X-ORIGINAL-URL:https://www.fv-bergerac.fr
X-WR-CALDESC:évènements pour FVBD
BEGIN:VTIMEZONE
TZID:Europe/Paris
BEGIN:DAYLIGHT
TZOFFSETFROM:+0100
TZOFFSETTO:+0200
TZNAME:CEST
DTSTART:20190331T010000
END:DAYLIGHT
BEGIN:STANDARD
TZOFFSETFROM:+0200
TZOFFSETTO:+0100
TZNAME:CET
DTSTART:20191027T010000
END:STANDARD
END:VTIMEZONE
BEGIN:VEVENT
DTSTART;VALUE=DATE:20190816
DTEND;VALUE=DATE:20190817
DTSTAMP:20260423T055237
CREATED:20190724T095728Z
LAST-MODIFIED:20190724T095728Z
UID:1834-1565913600-1565999999@www.fv-bergerac.fr
SUMMARY:Fermeture FVBD le 16 août 2019
DESCRIPTION:
URL:https://www.fv-bergerac.fr/dates-a-ne-pas-manquer/fermeture-fvbd-le-16-aout-2019/
END:VEVENT
END:VCALENDAR