BEGIN:VCALENDAR
VERSION:2.0
PRODID:-//FVBD - ECPv5.7.0//NONSGML v1.0//EN
CALSCALE:GREGORIAN
METHOD:PUBLISH
X-WR-CALNAME:FVBD
X-ORIGINAL-URL:https://www.fv-bergerac.fr
X-WR-CALDESC:évènements pour FVBD
BEGIN:VTIMEZONE
TZID:Europe/Paris
BEGIN:DAYLIGHT
TZOFFSETFROM:+0100
TZOFFSETTO:+0200
TZNAME:CEST
DTSTART:20190331T010000
END:DAYLIGHT
BEGIN:STANDARD
TZOFFSETFROM:+0200
TZOFFSETTO:+0100
TZNAME:CET
DTSTART:20191027T010000
END:STANDARD
END:VTIMEZONE
BEGIN:VEVENT
DTSTART;TZID=Europe/Paris:20190726T110000
DTEND;TZID=Europe/Paris:20190726T170000
DTSTAMP:20260421T105236
CREATED:20190627T121207Z
LAST-MODIFIED:20190627T121207Z
UID:1763-1564138800-1564160400@www.fv-bergerac.fr
SUMMARY:Journée Filière - édition estivale
DESCRIPTION:
URL:https://www.fv-bergerac.fr/dates-a-ne-pas-manquer/journee-filiere-edition-estivale/
END:VEVENT
END:VCALENDAR